BEGIN:VCALENDAR
VERSION:2.0
PRODID:-//Tukios.com/
BEGIN:VEVENT
UID:7226483c-0b29-470a-94f1-3de3d2320dc6@www.bladenborofh.com
DTSTAMP:20260420T082300Z
DTSTART:20260418T160000Z
DTEND:20260418T170000Z
SUMMARY:Funeral Service
DESCRIPTION:
URL:https://www.bladenborofh.com/obituaries/colton-dowless
LOCATION:Bethel Baptist Church 735 Old Highway 41  Tar Heel NC 28392
GEO:34.664757;-78.7454891
END:VEVENT
END:VCALENDAR